BEGIN:VCALENDAR
VERSION:2.0
PRODID:-//Tukios.com/
BEGIN:VEVENT
UID:38426115-e80f-4a5d-9709-feb7a76aa3f6@www.springerturner.com
DTSTAMP:20260422T015109Z
DTSTART:20260424T180000Z
DTEND:20260424T190000Z
SUMMARY:Graveside Service
DESCRIPTION:
URL:https://www.springerturner.com/obituaries/raeola-deakin
LOCATION:Torrey Cemetery 1000 East 200 North Street  Torrey UT 84775
GEO:38.30243;-111.4047788
END:VEVENT
END:VCALENDAR