BEGIN:VCALENDAR
VERSION:2.0
PRODID:-//Tukios.com/
BEGIN:VEVENT
UID:4812960f-78f1-42f4-a701-99463b885a1c@www.springerturner.com
DTSTAMP:20260422T014909Z
DTSTART:20260424T160000Z
DTEND:20260424T173000Z
SUMMARY:Viewing
DESCRIPTION:
URL:https://www.springerturner.com/obituaries/raeola-deakin
LOCATION:Torrey LDS Ward Chapel 89 East Main Street  Torrey UT 84775
GEO:38.2996241;-111.4194841
END:VEVENT
END:VCALENDAR