BEGIN:VCALENDAR
VERSION:2.0
PRODID:-//Tukios.com/
BEGIN:VEVENT
UID:14d5640b-0ada-4906-aa4d-6f690b0a612b@www.springerturner.com
DTSTAMP:20260426T010323Z
DTSTART:20260507T183000Z
DTEND:20260507T193000Z
SUMMARY:Luncheon
DESCRIPTION:
URL:https://www.springerturner.com/obituaries/kenneth-billington
LOCATION: 75 East Center Street  Axtell UT 84621
GEO:39.0555636;-111.8120152
END:VEVENT
END:VCALENDAR