BEGIN:VCALENDAR
VERSION:2.0
PRODID:-//Tukios.com/
BEGIN:VEVENT
UID:e78049c5-1a04-4351-944a-f64a1dbc192b@www.springerturner.com
DTSTAMP:20260426T010824Z
DTSTART:20260507T173000Z
DTEND:20260507T183000Z
SUMMARY:Graveside Service
DESCRIPTION:
URL:https://www.springerturner.com/obituaries/kenneth-billington
LOCATION:Axtell Cemetery 12500 South Cemetery Road  Axtell UT 84621
GEO:39.0552395;-111.8218691
END:VEVENT
END:VCALENDAR